BEGIN:VCALENDAR
VERSION:2.0
PRODID:-//Tukios.com/
BEGIN:VEVENT
UID:e2e818a8-4a45-4a86-b173-b1750727d1b6@www.brownsfamilyfuneralhome.com
DTSTAMP:20260423T005854Z
DTSTART:20260425T160000Z
DTEND:20260425T170000Z
SUMMARY:Memorial Service
DESCRIPTION:
URL:https://www.brownsfamilyfuneralhome.com/obituaries/elsie-gilbert
LOCATION:University Baptist Church 2515 N Kickapoo Ave.  Shawnee OK 74804
GEO:35.3599363;-96.9294321
END:VEVENT
END:VCALENDAR