BEGIN:VCALENDAR
VERSION:2.0
PRODID:-//Tukios.com/
BEGIN:VEVENT
UID:1d1395fe-f199-4ebe-a646-6aa25dc3550f@www.brownsfamilyfuneralhome.com
DTSTAMP:20260420T214136Z
DTSTART:20260426T200000Z
DTEND:20260426T230000Z
SUMMARY:Visitation
DESCRIPTION:
URL:https://www.brownsfamilyfuneralhome.com/obituaries/wayne-davis
LOCATION: 416 E Broadway  McLoud OK 74851
GEO:35.4357786;-97.0914931
END:VEVENT
END:VCALENDAR