BEGIN:VCALENDAR
VERSION:2.0
PRODID:-//Tukios.com/
BEGIN:VEVENT
UID:d0a80f24-143e-48a9-8e43-2bd16ba02ff1@www.brownsfamilyfuneralhome.com
DTSTAMP:20260420T213945Z
DTSTART:20260427T160000Z
DTEND:20260427T170000Z
SUMMARY:Funeral Service
DESCRIPTION:
URL:https://www.brownsfamilyfuneralhome.com/obituaries/wayne-davis
LOCATION:Emmaus Indian Baptist Church 624 W Broadway Ave  McLoud OK 74851
GEO:35.4357716;-97.0953573
END:VEVENT
END:VCALENDAR